BEGIN:VCALENDAR
VERSION:2.0
PRODID:-//Aussie NSUers Association - ECPv6.15.20//NONSGML v1.0//EN
CALSCALE:GREGORIAN
METHOD:PUBLISH
X-WR-CALNAME:Aussie NSUers Association
X-ORIGINAL-URL:https://oznsuers.org
X-WR-CALDESC:Events for Aussie NSUers Association
REFRESH-INTERVAL;VALUE=DURATION:PT1H
X-Robots-Tag:noindex
X-PUBLISHED-TTL:PT1H
BEGIN:VTIMEZONE
TZID:UTC
BEGIN:STANDARD
TZOFFSETFROM:+0000
TZOFFSETTO:+0000
TZNAME:UTC
DTSTART:20230101T000000
END:STANDARD
END:VTIMEZONE
BEGIN:VEVENT
DTSTART;TZID=UTC:20240225T110000
DTEND;TZID=UTC:20240225T160000
DTSTAMP:20260423T160356
CREATED:20231020T000001Z
LAST-MODIFIED:20260317T045421Z
UID:1564-1708858800-1708876800@oznsuers.org
SUMMARY:Aussie NSUers Reunion Cruise 2024
DESCRIPTION:Aussie NSUers Reunion Cruise 2024 – celebrating the cherished legacy of 12 years. \nCome sail with us and reunite in style! \nOzNSUers is excited to announce the Aussie NSUers Reunion Cruise 2024\, celebrating a cherished 12-year legacy since our inception in Australia. \nSave the date and watch this space—tickets and more information will be announced very soon! \nLet’s look back and cherish the memories we’ve created since our NSU days. Join us to enjoy a highly scenic Sydney Harbour cruise featuring electrifying live music\, live kids’ entertainment\, delicious food\, exciting raffle draws\, professional photography\, and much more! \nLet’s set sail—ahoy!
URL:https://oznsuers.org/event/aussie-nsuers-reunion-cruise-2024/
LOCATION:Sydney Harbour\, Birkenhead Point Ferry Wharf\, Drummoyne\, NSW\, 2047\, Australia
CATEGORIES:Reunion
ATTACH;FMTTYPE=image/jpeg:https://oznsuers.org/wp-content/uploads/2026/03/2024-Reunion-Cruise.jpg
ORGANIZER;CN="Aussie NSUers Association":MAILTO:aussie.nsuers@gmail.com
END:VEVENT
END:VCALENDAR