BEGIN:VCALENDAR
VERSION:2.0
PRODID:-//Aussie NSUers Association - ECPv6.15.20//NONSGML v1.0//EN
CALSCALE:GREGORIAN
METHOD:PUBLISH
X-WR-CALNAME:Aussie NSUers Association
X-ORIGINAL-URL:https://oznsuers.org
X-WR-CALDESC:Events for Aussie NSUers Association
REFRESH-INTERVAL;VALUE=DURATION:PT1H
X-Robots-Tag:noindex
X-PUBLISHED-TTL:PT1H
BEGIN:VTIMEZONE
TZID:UTC
BEGIN:STANDARD
TZOFFSETFROM:+0000
TZOFFSETTO:+0000
TZNAME:UTC
DTSTART:20230101T000000
END:STANDARD
END:VTIMEZONE
BEGIN:VEVENT
DTSTART;TZID=UTC:20241208T133000
DTEND;TZID=UTC:20241208T133000
DTSTAMP:20260423T040647
CREATED:20241121T000028Z
LAST-MODIFIED:20260317T042844Z
UID:1556-1733664600-1733664600@oznsuers.org
SUMMARY:Utshob by OzNSUers
DESCRIPTION:We’re thrilled to invite you to “উৎসব by OzNSUers” – A Gathering to Remember! This is a celebration dedicated to reconnecting with fellow NSU alumni\, friends\, and families in Australia. Let’s take a stroll down memory lane and make some new memories together!\n\nRegistration Link:  https://oznsuers.org/utshob-by-oznsuers-2024/\n\nJoin us for an afternoon filled with great food\, entertainment\, and the warmth of old friendships. Whether you’re looking forward to catching up with friends\, meeting new people\, or simply enjoying the festive spirit\, we can’t wait to see you there!\n\nPlease register using the link https://oznsuers.org/utshob-by-oznsuers-2024/ to confirm your attendance and help us make necessary arrangements.\n\nLooking forward to an unforgettable gathering! \n\nWarm regards\,Aussie NSUers Association (OzNSUers) team
URL:https://oznsuers.org/event/utshob-by-oznsuers/
LOCATION:Warragamba Town Hall\, 1 Civic Centre Cir\, Warragamba\, NSW\, 2752\, Australia
CATEGORIES:AGM,Election
ATTACH;FMTTYPE=image/jpeg:https://oznsuers.org/wp-content/uploads/2026/03/2024-Utshob-Banner.jpg
ORGANIZER;CN="Aussie NSUers Association":MAILTO:aussie.nsuers@gmail.com
END:VEVENT
END:VCALENDAR