BEGIN:VCALENDAR
VERSION:2.0
PRODID:-//Aussie NSUers Association - ECPv6.15.20//NONSGML v1.0//EN
CALSCALE:GREGORIAN
METHOD:PUBLISH
X-ORIGINAL-URL:https://oznsuers.org
X-WR-CALDESC:Events for Aussie NSUers Association
REFRESH-INTERVAL;VALUE=DURATION:PT1H
X-Robots-Tag:noindex
X-PUBLISHED-TTL:PT1H
BEGIN:VTIMEZONE
TZID:UTC
BEGIN:STANDARD
TZOFFSETFROM:+0000
TZOFFSETTO:+0000
TZNAME:UTC
DTSTART:20210101T000000
END:STANDARD
END:VTIMEZONE
BEGIN:VEVENT
DTSTART;TZID=UTC:20220320T120000
DTEND;TZID=UTC:20250320T170000
DTSTAMP:20260420T022022
CREATED:20220226T000005Z
LAST-MODIFIED:20260317T061146Z
UID:1578-1647777600-1742490000@oznsuers.org
SUMMARY:Bangla Utshob 2022 and AGM 2021
DESCRIPTION:Excited to invite you to বাংলা উৎসব. Here are some helpful info to locate us easily\n\n\nWe are at the MUDJIN site of Bungarribee Park. You can park your cars at Runway carpark and take a short walk to the site.\n\n\n Google dropped pin\n\n\n\n\nPlease bring your picnic chairs or mats\, sunnies or hats  \n\n\n\nLooking forward to having a great day out with all of you and our deshi delicacies \n\nTo participate the event please fill up the registration form.
URL:https://oznsuers.org/event/bangla-utshob-2022-and-agm-2020-2021/
LOCATION:Bungarribee Park\, Holbeche Road &\, Doonside Rd\, Arndell Park\, NSW\, Australia
CATEGORIES:AGM
ATTACH;FMTTYPE=image/jpeg:https://oznsuers.org/wp-content/uploads/2022/02/2022-bangla-utshob.jpg
ORGANIZER;CN="Aussie NSUers Association":MAILTO:aussie.nsuers@gmail.com
END:VEVENT
END:VCALENDAR